BEGIN:VCALENDAR
VERSION:2.0
PRODID:-//Laguna Beach Garden Club - ECPv6.14.2//NONSGML v1.0//EN
CALSCALE:GREGORIAN
METHOD:PUBLISH
X-WR-CALNAME:Laguna Beach Garden Club
X-ORIGINAL-URL:https://lagunabeachgardenclub.org
X-WR-CALDESC:Events for Laguna Beach Garden Club
REFRESH-INTERVAL;VALUE=DURATION:PT1H
X-Robots-Tag:noindex
X-PUBLISHED-TTL:PT1H
BEGIN:VTIMEZONE
TZID:America/Los_Angeles
BEGIN:DAYLIGHT
TZOFFSETFROM:-0800
TZOFFSETTO:-0700
TZNAME:PDT
DTSTART:20260308T100000
END:DAYLIGHT
BEGIN:STANDARD
TZOFFSETFROM:-0700
TZOFFSETTO:-0800
TZNAME:PST
DTSTART:20261101T090000
END:STANDARD
END:VTIMEZONE
BEGIN:VEVENT
DTSTART;TZID=America/Los_Angeles:20260126T093000
DTEND;TZID=America/Los_Angeles:20260126T120000
DTSTAMP:20260421T040052
CREATED:20250716T054958Z
LAST-MODIFIED:20250716T054958Z
UID:10000386-1769419800-1769428800@lagunabeachgardenclub.org
SUMMARY:Board Meeting
DESCRIPTION:Our Board of Directors meets to discuss and vote on club business. Members are welcome to attend! \n9:30 Social\n10:00 Meeting \nPlease contact us for the meeting location by submitting the form below. \nQuestions? We’d love to hear from you!\n\n\n                \n                        CommentsThis field is for validation purposes and should be left unchanged.Name*\n                            \n                            \n                                                    \n                                                    First\n                                                \n                            \n                            \n                                                    \n                                                    Last\n                                                \n                            \n                        Email*\n                            \n                        PhoneI am interested in:\n								\n								Sponsorship\n							\n								\n								Membership\n							\n								\n								Volunteering\n							\n								\n								Speaking opportunities\n							\n								\n								Other\n							Message*9+7=?*CAPTCHA
URL:https://lagunabeachgardenclub.org/event/board-meeting-36/
LOCATION:Laguna Beach\, CA\, Laguna Beach\, United States
ATTACH;FMTTYPE=image/jpeg:https://lagunabeachgardenclub.org/wp-content/uploads/2019/09/Club-Logo-440x420.jpg
END:VEVENT
BEGIN:VEVENT
DTSTART;TZID=America/Los_Angeles:20260128T091500
DTEND;TZID=America/Los_Angeles:20260128T091500
DTSTAMP:20260421T040052
CREATED:20260106T032618Z
LAST-MODIFIED:20260106T032943Z
UID:10000402-1769591700-1769591700@lagunabeachgardenclub.org
SUMMARY:Trips & Tours – Casa Romantica
DESCRIPTION:Daytrippers\, you can still sign-up for the docent-led tour of Casa Romantica Cultural Center and Gardens on January 28th\, followed by lunch at Trevor’s at the Tracks and a self-tour of Mission San Juan Capistrano. Sign-up at the January general meeting\, and please be prepared to pay the tour fee of $8 in cash at the T&T table. You will see reminders and updates at the meeting and in Constant Contact emails. \nAs usual\, we will gather at St. Catherine of Siena Parish for carpools at 9:15 am.\, leaving promptly at 9:30 am. Parking is in front of the church and is free; address is: 1042 Temple Terrace\, Laguna Beach. We appreciate drivers! \n\n\n\n\nA sign-up sheet will be available at the general club meeting on January 9th. Or use the contact form below. \nReminders: pay attention for updates and changes communicated at the general meeting and through Constant Contact email and remember to wear your badge at the T&T. \n\n\n\n\nFOR QUESTIONS or to RSVP (before October 5th)  IF YOU HAVE NOT NOT SIGNED UP or to CANCEL YOUR RSVP \n\n                \n                        FacebookThis field is for validation purposes and should be left unchanged.Name*\n                            \n                            \n                                                    \n                                                    First\n                                                \n                            \n                            \n                                                    \n                                                    Last\n                                                \n                            \n                        Email*\n                            \n                        PhoneMessage*25+4=?*CAPTCHA
URL:https://lagunabeachgardenclub.org/event/trips-tours-casa-romantica/
LOCATION:St. Catherine’s Church\, 1042 Temple Terrace\, Laguna Beach\, CA\, 92651\, United States
ATTACH;FMTTYPE=image/jpeg:https://lagunabeachgardenclub.org/wp-content/uploads/2026/01/Casa_Romantica_entrance_MAIN_IMAGE-580x453-1-e1767670094164.jpg
ORGANIZER;CN="Patty Gaffney":MAILTO:pattysgaf@gmail.com
END:VEVENT
BEGIN:VEVENT
DTSTART;TZID=America/Los_Angeles:20260213T093000
DTEND;TZID=America/Los_Angeles:20260213T120000
DTSTAMP:20260421T040052
CREATED:20260127T031919Z
LAST-MODIFIED:20260216T223451Z
UID:10000403-1770975000-1770984000@lagunabeachgardenclub.org
SUMMARY:Valentine's Extravaganza Open House
DESCRIPTION:The February meeting of the Laguna Beach Garden Club is an Open House for the community to come join in on the Valentine Extravaganza! Members make beautiful handcrafted potted plant creations for all to bid on. There is also a plant sale for those of you who like to do your own planting. There will be succulents and unusual perennials galore. In addition\, there will be a One-of-a-Kind boutique items for sale. As if all that was not enough\, there will be a spectacular raffle with great prizes for you to peruse. New this year\, we will have garden tool sharpening service on site where you can either choose “drop-off” service or “while-you-wait”. \nCome and support your Laguna Beach Garden Club and meet the 256 members and have some fun and just maybe\, find something unique and special for your Valentine\, even if that Valentine is you! Laguna Beach Garden Club supports our local school gardens\, provides scholarships to Laguna High School students\, Saddleback College students\, the Orange Coast College Horticulture department\, The Ecology Center in San Juan Capistrano as well as helping to beautify Laguna Beach through maintenance of several pocket parks just to name a few\, and bringing you the beautiful “Good of the Hive” mural downtown at 306 3 rd Street at the Laguna Beach County Water District Building. So come exhibit your “For the good of the hive” attitude and drop by\, have some refreshments and help your community! \n \ndownload flyer \n  \nQuestions? We’d love to hear from you!\n* Required \n\n                \n                        EmailThis field is for validation purposes and should be left unchanged.Name*\n                            \n                            \n                                                    \n                                                    First\n                                                \n                            \n                            \n                                                    \n                                                    Last\n                                                \n                            \n                        Email*\n                            \n                        PhoneI am interested in:\n								\n								Sponsorship\n							\n								\n								Membership\n							\n								\n								Volunteering\n							\n								\n								Speaking opportunities\n							\n								\n								Other\n							Message*9+7=?*CAPTCHA
URL:https://lagunabeachgardenclub.org/event/valentines-extravaganza-open-house/
LOCATION:Laguna Presbyterian Church\, Tankersley Hall\, 415 Forest Ave.\, Laguna Beach\, 92651\, United States
ATTACH;FMTTYPE=image/jpeg:https://lagunabeachgardenclub.org/wp-content/uploads/2025/01/Valentines-Container-Sale.jpg
END:VEVENT
END:VCALENDAR