BEGIN:VCALENDAR
VERSION:2.0
PRODID:-//Laguna Beach Garden Club - ECPv6.14.2//NONSGML v1.0//EN
CALSCALE:GREGORIAN
METHOD:PUBLISH
X-WR-CALNAME:Laguna Beach Garden Club
X-ORIGINAL-URL:https://lagunabeachgardenclub.org
X-WR-CALDESC:Events for Laguna Beach Garden Club
REFRESH-INTERVAL;VALUE=DURATION:PT1H
X-Robots-Tag:noindex
X-PUBLISHED-TTL:PT1H
BEGIN:VTIMEZONE
TZID:UTC
BEGIN:STANDARD
TZOFFSETFROM:+0000
TZOFFSETTO:+0000
TZNAME:UTC
DTSTART:20210101T000000
END:STANDARD
END:VTIMEZONE
BEGIN:VTIMEZONE
TZID:America/Los_Angeles
BEGIN:DAYLIGHT
TZOFFSETFROM:-0800
TZOFFSETTO:-0700
TZNAME:PDT
DTSTART:20190310T100000
END:DAYLIGHT
BEGIN:STANDARD
TZOFFSETFROM:-0700
TZOFFSETTO:-0800
TZNAME:PST
DTSTART:20191103T090000
END:STANDARD
BEGIN:DAYLIGHT
TZOFFSETFROM:-0800
TZOFFSETTO:-0700
TZNAME:PDT
DTSTART:20200308T100000
END:DAYLIGHT
BEGIN:STANDARD
TZOFFSETFROM:-0700
TZOFFSETTO:-0800
TZNAME:PST
DTSTART:20201101T090000
END:STANDARD
BEGIN:DAYLIGHT
TZOFFSETFROM:-0800
TZOFFSETTO:-0700
TZNAME:PDT
DTSTART:20210314T100000
END:DAYLIGHT
BEGIN:STANDARD
TZOFFSETFROM:-0700
TZOFFSETTO:-0800
TZNAME:PST
DTSTART:20211107T090000
END:STANDARD
END:VTIMEZONE
BEGIN:VEVENT
DTSTART;TZID=UTC:20250503T100000
DTEND;TZID=UTC:20250503T160000
DTSTAMP:20260423T080227
CREATED:20241130T040119Z
LAST-MODIFIED:20241130T041749Z
UID:10000373-1746266400-1746288000@lagunabeachgardenclub.org
SUMMARY:2025 Gate & Garden Tour
DESCRIPTION:Supporting educational school gardens\, local scholarships and community projects\nOn Saturday May 3rd\, 2025\, the Laguna Beach Garden Club will host its 20th annual Laguna Beach Gate & Garden Tour\, a major fundraiser for educational school gardens\, local scholarships and community projects. \nThe 2025 Walking tour will be held on Saturday May 3rd\, from 10 am-4 pm\, starting at the Laguna Beach County Water District. The buildings gorgeous “Mediterranean Revival” style building built in 1927 is now the permanent host venue for the Laguna Beach Garden Club Gate & Garden Tour. Luxury VIP Buses will transport you to the start of the tour where you will stroll through a masterfully curated set of gardens in local neighborhoods. \nThe festive event will offer artisanal margaritas and Mexican fare for sale\, as well as free spectacular homemade baked goods and refreshments. In addition to being able to enjoy plein air painters in several gardens you can participate in a raffle of prizes from local artists and businesses. Participants wearing festive garden party hats will be entered into the hat contest. It has become one of the most popular events in our town with multiple years of sold out attendance. \nClick HERE for more information and tickets. \n  \n  \n  \n  \n\nQuestions?\nIf you have any questions\, please contact our Gate & Garden Tour Director\, Susan Denton\, by submitting the form below. \n* = Required information \n\n\n                \n                        CommentsThis field is for validation purposes and should be left unchanged.Name*\n                            \n                            \n                                                    \n                                                    First\n                                                \n                            \n                            \n                                                    \n                                                    Last\n                                                \n                            \n                        Email*\n                            \n                        PhoneMessage*CAPTCHA
URL:https://lagunabeachgardenclub.org/event/2025-gate-garden-tour/
LOCATION:Laguna Beach County Water District\, 306 3rd Street\, Laguna Beach\, CA\, 92651
ATTACH;FMTTYPE=image/png:https://lagunabeachgardenclub.org/wp-content/uploads/2021/02/GGT-logo-feature.png
ORGANIZER;CN="Susan Denton":MAILTO:cnnpinca@yahoo.com
END:VEVENT
BEGIN:VEVENT
DTSTART;TZID=UTC:20240504T100000
DTEND;TZID=UTC:20240504T150000
DTSTAMP:20260423T080228
CREATED:20231128T165645Z
LAST-MODIFIED:20231128T170530Z
UID:10000352-1714816800-1714834800@lagunabeachgardenclub.org
SUMMARY:2024 Gate & Garden Tour
DESCRIPTION:Supporting educational school gardens\, local scholarships and community projects\nOn Saturday May 4th\, 2024\, the Laguna Beach Garden Club will host its 19th annual Laguna Beach Gate & Garden Tour\, a major fundraiser for educational school gardens\, local scholarships and community projects. \nThe 2024 Walking tour will be held on Saturday May 6th\, from 10 am-4 pm\, starting at the Laguna Beach County Water District. The buildings gorgeous “Mediterranean Revival” style building built in 1927 is now the permanent host venue for the Laguna Beach Garden Club Gate & Garden Tour. Luxury VIP Buses will transport you to the start of the tour where you will stroll through a masterfully curated set of gardens in local neighborhoods. \nThe festive event will offer artisanal margaritas and Mexican fare for sale\, as well as free spectacular homemade baked goods and refreshments. In addition to being able to enjoy plein air painters in several gardens you can participate in a raffle of prizes from local artists and businesses. Participants wearing festive garden party hats will be entered into the hat contest. It has become one of the most popular events in our town with multiple years of sold out attendance. \nClick HERE for more information and tickets. \n  \n  \n  \n  \n\nQuestions?\nIf you have any questions\, please contact our Gate & Garden Tour Director\, Susan Denton\, by submitting the form below. \n* = Required information \n\n                \n                        EmailThis field is for validation purposes and should be left unchanged.Name*\n                            \n                            \n                                                    \n                                                    First\n                                                \n                            \n                            \n                                                    \n                                                    Last\n                                                \n                            \n                        Email*\n                            \n                        PhoneMessage*CAPTCHA
URL:https://lagunabeachgardenclub.org/event/2024-gate-garden-tour/
LOCATION:Laguna Beach County Water District\, 306 3rd Street\, Laguna Beach\, CA\, 92651
ATTACH;FMTTYPE=image/png:https://lagunabeachgardenclub.org/wp-content/uploads/2021/02/GGT-logo-feature.png
ORGANIZER;CN="Susan Denton":MAILTO:cnnpinca@yahoo.com
END:VEVENT
BEGIN:VEVENT
DTSTART;TZID=UTC:20240311T150000
DTEND;TZID=UTC:20240311T180000
DTSTAMP:20260423T080228
CREATED:20240308T054510Z
LAST-MODIFIED:20240309T023818Z
UID:10000354-1710169200-1710180000@lagunabeachgardenclub.org
SUMMARY:The Good of the Hive Ribbon Cutting Ceremony
DESCRIPTION:On Monday\, March 11th at 3:00 pm\, the Laguna Beach Garden Club will join with the Laguna Beach County Water District\, and The Laguna Beach Chamber of Commerce for a Ribbon Cutting Ceremony celebrating the Unveiling of Matt Willeys newest the mural in his The Good of The Hive® initiative.  Our club has commissioned this beautiful  work of art as our Love Letter to Laguna Beach  with the goal to enlighten  the community on the plight of pollinators in a positive and hope-filled way that sparks delight. \nTo add to the celebration members of LagunaTunes will be singing two songs that were selected as finalists for our Bee Song competition. The winning song will be determined by applause. \nFor those in attendance\, Laguna Beach County Water District will be offering a bee themed reusable grocery bag to the first 100 attendees. Laguna Beach Garden Club members will be present to answer any question regarding the club and the mural. \nThe mural unveiling is located at the Laguna Beach County Water District\, at 306 Third Street\, Laguna Beach\, CA 92651. \n  \nQuestions? We’d love to hear from you!\n\n                \n                        X/TwitterThis field is for validation purposes and should be left unchanged.Name*\n                            \n                            \n                                                    \n                                                    First\n                                                \n                            \n                            \n                                                    \n                                                    Last\n                                                \n                            \n                        Email*\n                            \n                        PhoneI am interested in:\n								\n								Sponsorship\n							\n								\n								Membership\n							\n								\n								Volunteering\n							\n								\n								Speaking opportunities\n							\n								\n								Other\n							Message*9+7=?*CAPTCHA
URL:https://lagunabeachgardenclub.org/event/the-good-of-the-hive-ribbon-cutting/
LOCATION:Laguna Beach County Water District\, 306 3rd Street\, Laguna Beach\, CA\, 92651
ATTACH;FMTTYPE=image/jpeg:https://lagunabeachgardenclub.org/wp-content/uploads/2024/03/bee-mural.jpg
END:VEVENT
BEGIN:VEVENT
DTSTART;TZID=UTC:20230506T100000
DTEND;TZID=UTC:20230506T160000
DTSTAMP:20260423T080228
CREATED:20220829T042416Z
LAST-MODIFIED:20221218T220048Z
UID:10000323-1683367200-1683388800@lagunabeachgardenclub.org
SUMMARY:2023 Gate & Garden Tour
DESCRIPTION:Supporting educational school gardens\, local scholarships and community projects\nOn Saturday May 6th\, 2023\, the Laguna Beach Garden Club will host its 18th annual Laguna Beach Gate & Garden Tour\, a major fundraiser for educational school gardens\, local scholarships and community projects. \nThe 2023 Walking tour will be held on Saturday May 6th\, from 10 am-4 pm\, starting at the Laguna Beach County Water District. The buildings gorgeous “Mediterranean Revival” style building built in 1927 is now the permanent host venue for the Laguna Beach Garden Club Gate & Garden Tour. Luxury VIP Buses will transport you to the start of the tour where you will stroll through a masterfully curated set of gardens in local neighborhoods. \nThe festive event will offer artisanal margaritas and Mexican fare for sale\, as well as free spectacular homemade baked goods and refreshments. In addition to being able to enjoy plein air painters in several gardens you can participate in a raffle of prizes from local artists and businesses. Participants wearing festive garden party hats will be entered into the hat contest. It has become one of the most popular events in our town with multiple years of sold out attendance. \n  \n  \n  \n  \n\nQuestions?\nIf you have any questions\, please contact our Gate & Garden Tour Director\, Susan Denton\, by submitting the form below. \n* = Required information \n\n                \n                        PhoneThis field is for validation purposes and should be left unchanged.Name*\n                            \n                            \n                                                    \n                                                    First\n                                                \n                            \n                            \n                                                    \n                                                    Last\n                                                \n                            \n                        Email*\n                            \n                        PhoneMessage*CAPTCHA
URL:https://lagunabeachgardenclub.org/event/2023-gate-garden-tour/
LOCATION:Laguna Beach County Water District\, 306 3rd Street\, Laguna Beach\, CA\, 92651
ATTACH;FMTTYPE=image/png:https://lagunabeachgardenclub.org/wp-content/uploads/2021/02/GGT-logo-feature.png
ORGANIZER;CN="Susan Denton":MAILTO:cnnpinca@yahoo.com
END:VEVENT
BEGIN:VEVENT
DTSTART;TZID=UTC:20220507T100000
DTEND;TZID=UTC:20220507T160000
DTSTAMP:20260423T080228
CREATED:20210823T220121Z
LAST-MODIFIED:20211219T152337Z
UID:10000218-1651917600-1651939200@lagunabeachgardenclub.org
SUMMARY:2022 Gate & Garden Tour
DESCRIPTION:Supporting educational school gardens\, local scholarships and community projects\nThe 2022 tour will mark the 17th Gate & Garden Tour. \nThe Tour will start with registration in the beautiful gardens of the Laguna Beach County Water District\, our new host venue and sponsor.  The buildings “Mediterranean Revival” style was designed by architect\, Aubrey St. Clair\, the son of the first artist to make his home in Laguna Beach Art Colony; and was originally built in 1927. \nTransportation to the private gardens in Laguna Beach will be provided by air-conditioned shuttle buses.  The tour is complete with docents who will point out noteworthy sites of Laguna Beach along the way to the first garden. The self-guided walking tour follows a mapped route where visitors can explore gardens opened exclusively for our ticket holders. \nA portion of the proceeds from the Tour provide financial support for our Club’s many environmental\, educational and civic beautification projects as well as scholarships for local high school and community college students with interest in horticulture. \n  \nlearn more tickets \n  \n  \n\nQuestions?\nIf you have any questions\, please contact our Gate & Garden Tour Director\, Susan Denton\, by submitting the form below. \n* = Required information \n\n                \n                        CommentsThis field is for validation purposes and should be left unchanged.Name*\n                            \n                            \n                                                    \n                                                    First\n                                                \n                            \n                            \n                                                    \n                                                    Last\n                                                \n                            \n                        Email*\n                            \n                        PhoneMessage*CAPTCHA
URL:https://lagunabeachgardenclub.org/event/2022-gate-garden-tour/
LOCATION:Laguna Beach County Water District\, 306 3rd Street\, Laguna Beach\, CA\, 92651
ATTACH;FMTTYPE=image/png:https://lagunabeachgardenclub.org/wp-content/uploads/2021/02/GGT-logo-feature.png
ORGANIZER;CN="Susan Denton":MAILTO:cnnpinca@yahoo.com
END:VEVENT
BEGIN:VEVENT
DTSTART;TZID=America/Los_Angeles:20211009T080000
DTEND;TZID=America/Los_Angeles:20211009T140000
DTSTAMP:20260423T080228
CREATED:20210915T000643Z
LAST-MODIFIED:20210915T001252Z
UID:10000224-1633766400-1633788000@lagunabeachgardenclub.org
SUMMARY:SmartScape Expo 2021
DESCRIPTION:The Laguna Beach Water District’s 12th annual SmartScape Waterwise Expo is back and in person! At this free event\, attendees will have access to free landscape consultations\, meet local landscape and irrigation professionals\, purchase native plants\, and learn about rebates on water saving devices. \nThe Laguna Beach Garden Club will have a booth at this event where we will give away succulent cuttings\, offer advice\, and host a DIY craft.
URL:https://lagunabeachgardenclub.org/event/smartscape-expo-2021/
LOCATION:Laguna Beach County Water District\, 306 3rd Street\, Laguna Beach\, CA\, 92651
ATTACH;FMTTYPE=image/jpeg:https://lagunabeachgardenclub.org/wp-content/uploads/2021/09/smaratscapeexpo-400.jpg
END:VEVENT
BEGIN:VEVENT
DTSTART;TZID=UTC:20210501T100000
DTEND;TZID=UTC:20210501T160000
DTSTAMP:20260423T080228
CREATED:20210207T040716Z
LAST-MODIFIED:20210408T163336Z
UID:10000294-1619863200-1619884800@lagunabeachgardenclub.org
SUMMARY:2021 Gate & Garden Tour
DESCRIPTION:Supporting educational school gardens\, local scholarships and community projects\nThe 2021 tour will mark the 16th Gate & Garden Tour. \nThe Tour will start with registration in the beautiful gardens of the Laguna Beach County Water District\, our new host venue and sponsor.  The buildings “Mediterranean Revival” style was designed by architect\, Aubrey St. Clair\, the son of the first artist to make his home in Laguna Beach Art Colony; and was originally built in 1927. \nIn the reception area we will enjoy a luscious selection of homemade desserts\, coffee and botanical waters.  In addition\, our famous artisanal margaritas and wonderful food will be available for purchase. \nTransportation to the private gardens in Laguna Beach will be provided by air-conditioned shuttle buses.  The tour is complete with docents who will point out noteworthy sites of Laguna Beach along the way to the first garden.\nThe self-guided walking tour follows a mapped route where visitors can explore gardens opened exclusively for our ticket holders. \nDue to the COVID-19 pandemic\, measures will be in place to provide for social distancing and hand washing/sanitizing.  Face masks will be required in all areas. \nA portion of the proceeds from the Tour provide financial support for our Club’s many environmental\, educational and civic beautification projects as well as scholarships for local high school and community college students with interest in horticulture. \n \nParking Information \n  \nlearn more    tickets \n  \n\nQuestions?\nIf you have any questions\, please contact our Gate & Garden Tour Director\, Susan Denton\, by submitting the form below. \n* = Required information \n\n                \n                        CompanyThis field is for validation purposes and should be left unchanged.Name*\n                            \n                            \n                                                    \n                                                    First\n                                                \n                            \n                            \n                                                    \n                                                    Last\n                                                \n                            \n                        Email*\n                            \n                        PhoneMessage*CAPTCHA
URL:https://lagunabeachgardenclub.org/event/2021-gate-garden-tour/
LOCATION:Laguna Beach County Water District\, 306 3rd Street\, Laguna Beach\, CA\, 92651
ATTACH;FMTTYPE=image/png:https://lagunabeachgardenclub.org/wp-content/uploads/2021/02/GGT-logo-feature.png
ORGANIZER;CN="Susan Denton":MAILTO:cnnpinca@yahoo.com
END:VEVENT
BEGIN:VEVENT
DTSTART;TZID=America/Los_Angeles:20191012T080000
DTEND;TZID=America/Los_Angeles:20191012T140000
DTSTAMP:20260423T080228
CREATED:20190904T150113Z
LAST-MODIFIED:20190908T015330Z
UID:10000266-1570867200-1570888800@lagunabeachgardenclub.org
SUMMARY:SmartScape Expo
DESCRIPTION:Come see our booth at the 10th Anniversary SmartScape Expo water-wise fair at Laguna Beach County Water District on Sat.\, Oct. 12th\, 8 am – 2 pm.  Entry is free. \nWe will give away succulent cuttings and have experts on hand to give info and advice on plants and plant care. We’ll also demonstrate print-making with leaves and provide the supplies\, so you can go home with a leaf-imprinted work of art. Kids love this activity\, too!  Hope to see you there! \nQuestions? We’d love to hear from you!\n\n                \n                        FacebookThis field is for validation purposes and should be left unchanged.Name*\n                            \n                            \n                                                    \n                                                    First\n                                                \n                            \n                            \n                                                    \n                                                    Last\n                                                \n                            \n                        Email*\n                            \n                        PhoneMessage*13+6=?*CAPTCHA
URL:https://lagunabeachgardenclub.org/event/smartscape-expo/
LOCATION:Laguna Beach County Water District\, 306 3rd Street\, Laguna Beach\, CA\, 92651
ATTACH;FMTTYPE=image/jpeg:https://lagunabeachgardenclub.org/wp-content/uploads/2019/09/Expo-replace.jpg
END:VEVENT
END:VCALENDAR